BEGIN:VCALENDAR
VERSION:2.0
PRODID:-//hacksw/handcal//NONSGML v1.0//EN
BEGIN:VEVENT
DTSTART:20250519T182000
DTEND:20250519T213000
LOCATION:Bureaux de Goldman Sachs à Paris \n85, Avenue Marceau \n75008 PARIS
ORGANIZER;CN=Benoît RAILLARD:MAILTO:benoit.raillard@gmail.com
SUMMARY:Débat-Cocktail avec Rob Kaplan (MBA 1983) chez Goldman Sachs à Paris
DESCRIPTION:\nRencontre Exceptionnelle  !Débat suivi d'un Cocktail avec Rob Kaplan (HBS MBA 1983)Vice-Chairman de Goldman Sachs \nProgramme de la rencontre18h20 à 18h30 :  Arrivée des participants, dûment...
URL:https://www.hbsclubfrance.org/fr/event/-debat-cocktail-avec-rob-kaplan-mba-1983-chez-goldman-sachs-a-paris/2025/05/19/183
BEGIN:VALARM
TRIGGER:-P0DT1H0M0S
ACTION:DISPLAY
END:VALARM
END:VEVENT
END:VCALENDAR